BEGIN:VCALENDAR
VERSION:2.0
PRODID:-//Our Lady of Peace Shrine and Church - ECPv5.13.0//NONSGML v1.0//EN
CALSCALE:GREGORIAN
METHOD:PUBLISH
X-WR-CALNAME:Our Lady of Peace Shrine and Church
X-ORIGINAL-URL:https://www.olop-shrine.org
X-WR-CALDESC:Events for Our Lady of Peace Shrine and Church
BEGIN:VTIMEZONE
TZID:America/Los_Angeles
BEGIN:DAYLIGHT
TZOFFSETFROM:-0800
TZOFFSETTO:-0700
TZNAME:PDT
DTSTART:20250309T100000
END:DAYLIGHT
BEGIN:STANDARD
TZOFFSETFROM:-0700
TZOFFSETTO:-0800
TZNAME:PST
DTSTART:20251102T090000
END:STANDARD
END:VTIMEZONE
BEGIN:VEVENT
DTSTART;VALUE=DATE:20250525
DTEND;VALUE=DATE:20250526
DTSTAMP:20260421T234216
CREATED:20250519T225833Z
LAST-MODIFIED:20250519T225833Z
UID:13936-1748131200-1748217599@www.olop-shrine.org
SUMMARY:Wheelchair Sunday
DESCRIPTION:Since 2003\, the Knights have helped provide tens of thousands of brand new wheelchairs all over the world\, to children\, teens and adults in need of mobility. \nThe Knights will be at our parish on Saturday\, May 24 & Sunday\, May 25\, to explain how you can help provide to those who cannot afford a wheelchair. Please join the Knights to learn more and how a $150 donation can purchase and deliver a free wheelchair that would sell for $500. \nYour tax-deductible donations help the Knights change lives in an immediate and tangible way. \nFor more information on this fundraiser\, please go to amwheelchair.org/knights-of-columbus
URL:https://www.olop-shrine.org/event/2025-wheelchair-sunday/
END:VEVENT
END:VCALENDAR