BEGIN:VCALENDAR
VERSION:2.0
PRODID:-//Our Lady of Peace Shrine and Church - ECPv5.13.0//NONSGML v1.0//EN
CALSCALE:GREGORIAN
METHOD:PUBLISH
X-WR-CALNAME:Our Lady of Peace Shrine and Church
X-ORIGINAL-URL:https://www.olop-shrine.org
X-WR-CALDESC:Events for Our Lady of Peace Shrine and Church
BEGIN:VTIMEZONE
TZID:America/Los_Angeles
BEGIN:DAYLIGHT
TZOFFSETFROM:-0800
TZOFFSETTO:-0700
TZNAME:PDT
DTSTART:20250309T100000
END:DAYLIGHT
BEGIN:STANDARD
TZOFFSETFROM:-0700
TZOFFSETTO:-0800
TZNAME:PST
DTSTART:20251102T090000
END:STANDARD
END:VTIMEZONE
BEGIN:VEVENT
DTSTART;TZID=America/Los_Angeles:20250305T063000
DTEND;TZID=America/Los_Angeles:20250305T210000
DTSTAMP:20260422T011250
CREATED:20250226T220945Z
LAST-MODIFIED:20250226T225046Z
UID:13834-1741156200-1741208400@www.olop-shrine.org
SUMMARY:Ash Wednesday
DESCRIPTION:Ash Wednesday\nWednesday\, March 5\, 2025\nAshes given at each Mass & Service. \nMasses with Ashes\n6:30am Mass\n8:00am Mass\n12:00pm Mass\n5:15pm Mass\n6:30pm Spanish Mass\n8:00pm Mass \nAshes Only Services\n10:00am Ashes Only Service\n4:00pm Ashes Only Service \nConfession Schedule\nConfessions will be available during all Masses except for 6:30am Mass. \nAll baptized Catholics are required to observe abstinence from meat (age 14 onwards) on Ash Wednesday and all Fridays during Lent. Fasting (ages 18-59) is also required on Ash Wednesday\, unless grave health concerns prevent them.
URL:https://www.olop-shrine.org/event/ash-wednesday-2025/
LOCATION:Our Lady of Peace Church\, 2800 Mission College Boulevard\, Santa Clara\, CA\, 95054\, United States
CATEGORIES:Annual Events
END:VEVENT
END:VCALENDAR