BEGIN:VCALENDAR
VERSION:2.0
PRODID:-//Our Lady of Peace Shrine and Church - ECPv5.13.0//NONSGML v1.0//EN
CALSCALE:GREGORIAN
METHOD:PUBLISH
X-WR-CALNAME:Our Lady of Peace Shrine and Church
X-ORIGINAL-URL:https://www.olop-shrine.org
X-WR-CALDESC:Events for Our Lady of Peace Shrine and Church
BEGIN:VTIMEZONE
TZID:America/Los_Angeles
BEGIN:DAYLIGHT
TZOFFSETFROM:-0800
TZOFFSETTO:-0700
TZNAME:PDT
DTSTART:20180311T100000
END:DAYLIGHT
BEGIN:STANDARD
TZOFFSETFROM:-0700
TZOFFSETTO:-0800
TZNAME:PST
DTSTART:20181104T090000
END:STANDARD
END:VTIMEZONE
BEGIN:VEVENT
DTSTART;TZID=America/Los_Angeles:20180202T103000
DTEND;TZID=America/Los_Angeles:20180202T123000
DTSTAMP:20260422T162546
CREATED:20171017T084923Z
LAST-MODIFIED:20180116T215451Z
UID:9049-1517567400-1517574600@www.olop-shrine.org
SUMMARY:Friday Family Nights
DESCRIPTION:Friday Family Night: \nJoin us as we honor the Sacred Heart of Jesus and the First Friday Devotion. \n6:30- Gather in Family Learning Center.  Activities for All Ages\n7:30- First Friday Holy Mass\n8:30- Sign out\, Recreation and Snacks \n“On Friday during Holy Communion\, He said these words to His unworthy slave\, if I mistake not: ‘I promise you in the excessive mercy of my Heart that its all-powerful love will grant to all those who receive Holy Communion on nine first Fridays of consecutive months the grace of final repentance; they will not die under my displeasure or without receiving their sacraments\, my divine Heart making itself their assured refuge at the last moment.’” From the writings of St. Margaret Mary on her apparitions from Jesus Christ. \nLearn more about the Devotion and promises to the Sacred Heart of Jesus at www.ewtn.com
URL:https://www.olop-shrine.org/event/friday-family-nights-refer-parish-calendar/
END:VEVENT
END:VCALENDAR