BEGIN:VCALENDAR
VERSION:2.0
PRODID:-//Our Lady of Peace Shrine and Church - ECPv5.13.0//NONSGML v1.0//EN
CALSCALE:GREGORIAN
METHOD:PUBLISH
X-WR-CALNAME:Our Lady of Peace Shrine and Church
X-ORIGINAL-URL:https://www.olop-shrine.org
X-WR-CALDESC:Events for Our Lady of Peace Shrine and Church
BEGIN:VTIMEZONE
TZID:America/Los_Angeles
BEGIN:DAYLIGHT
TZOFFSETFROM:-0800
TZOFFSETTO:-0700
TZNAME:PDT
DTSTART:20250309T100000
END:DAYLIGHT
BEGIN:STANDARD
TZOFFSETFROM:-0700
TZOFFSETTO:-0800
TZNAME:PST
DTSTART:20251102T090000
END:STANDARD
END:VTIMEZONE
BEGIN:VEVENT
DTSTART;TZID=America/Los_Angeles:20250608T100000
DTEND;TZID=America/Los_Angeles:20250608T140000
DTSTAMP:20260421T202414
CREATED:20250602T175838Z
LAST-MODIFIED:20250602T175852Z
UID:13956-1749376800-1749391200@www.olop-shrine.org
SUMMARY:Parish Life Expo Fair
DESCRIPTION:Parish Life Expo Fair \n \nJoin us in front of the church to witness the gifts and talents of those involved in the life of the parish! \nVisit www.olop-shrine.org/about-us/parish-life/ for more information about parish groups and committees.
URL:https://www.olop-shrine.org/event/parish-life-expo-fair-2025/
CATEGORIES:Annual Events
END:VEVENT
END:VCALENDAR