BEGIN:VCALENDAR
VERSION:2.0
PRODID:-//Our Lady of Peace Shrine and Church - ECPv5.13.0//NONSGML v1.0//EN
CALSCALE:GREGORIAN
METHOD:PUBLISH
X-WR-CALNAME:Our Lady of Peace Shrine and Church
X-ORIGINAL-URL:https://www.olop-shrine.org
X-WR-CALDESC:Events for Our Lady of Peace Shrine and Church
BEGIN:VTIMEZONE
TZID:America/Los_Angeles
BEGIN:DAYLIGHT
TZOFFSETFROM:-0800
TZOFFSETTO:-0700
TZNAME:PDT
DTSTART:20250309T100000
END:DAYLIGHT
BEGIN:STANDARD
TZOFFSETFROM:-0700
TZOFFSETTO:-0800
TZNAME:PST
DTSTART:20251102T090000
END:STANDARD
END:VTIMEZONE
BEGIN:VEVENT
DTSTART;TZID=America/Los_Angeles:20251208T063000
DTEND;TZID=America/Los_Angeles:20251208T210000
DTSTAMP:20260421T102729
CREATED:20251120T211319Z
LAST-MODIFIED:20251120T211751Z
UID:14133-1765175400-1765227600@www.olop-shrine.org
SUMMARY:Solemnity of the Immaculate Conception
DESCRIPTION:Solemnity of the Immaculate Conception – Holy Day of Obligation \nMass Schedule: \n6:30am\, 8am\, 12pm\, 5:15pm\, 6:30pm Español\, 8pm
URL:https://www.olop-shrine.org/event/solemnity-immaculate-conception-2025/
CATEGORIES:Mass
END:VEVENT
END:VCALENDAR