BEGIN:VCALENDAR
VERSION:2.0
PRODID:-//Our Lady of Peace Shrine and Church - ECPv5.13.0//NONSGML v1.0//EN
CALSCALE:GREGORIAN
METHOD:PUBLISH
X-WR-CALNAME:Our Lady of Peace Shrine and Church
X-ORIGINAL-URL:https://www.olop-shrine.org
X-WR-CALDESC:Events for Our Lady of Peace Shrine and Church
BEGIN:VTIMEZONE
TZID:America/Los_Angeles
BEGIN:DAYLIGHT
TZOFFSETFROM:-0800
TZOFFSETTO:-0700
TZNAME:PDT
DTSTART:20240310T100000
END:DAYLIGHT
BEGIN:STANDARD
TZOFFSETFROM:-0700
TZOFFSETTO:-0800
TZNAME:PST
DTSTART:20241103T090000
END:STANDARD
END:VTIMEZONE
BEGIN:VEVENT
DTSTART;TZID=America/Los_Angeles:20240120T063000
DTEND;TZID=America/Los_Angeles:20240120T173000
DTSTAMP:20260421T025533
CREATED:20231227T184317Z
LAST-MODIFIED:20240106T174819Z
UID:13440-1705732200-1705771800@www.olop-shrine.org
SUMMARY:Walk for Life 2024
DESCRIPTION:20th Walk for Life West Coast\nSaturday\, January 20\, 2024 \nPrefer to avoid the hassle of driving up to San Francisco? Consider joining us! \n$35 – OLOP’s Bus Ride to & from SF \nWe walk\, rain or shine\, so dress accordingly! \nBring your own lunch\, comfortable walking shoes\, yellow “WFL” t-shirt\, and rosary! \n\n6:45am – arrive and park your cars at OLOP parking lot\n6:50am – OLOP buses start loading\n7:15am – OLOP buses depart to St. Lawrence the Martyr Church for Mass with Bishop Oscar Cantú\n9:00am – OLOP buses start loading\n9:15am – OLOP buses depart to SF\n11:00am – Approximate arrival to SF and proceed to walk to Civic Center Plaza\nBefore 12:30am – Info Faire (bagged lunch time)\n12:30pm – Rally for Life Speakers\n1:30pm – Peaceful intercession in the 2 mile route towards Justin Herman Plaza/Ferry Building\, along Market Street\n2:30pm – Proceed to Bus Pick Up Location\n3:30pm – Bus departure from San Francisco\n5:30pm – Latest estimated arrival to OLOP\n\nClick here for registration packet \nYou can also find registration packets on our bulletin board in the side hall\, at our office\, or request a registration packet by sending an email to kathleen.lara@dsj.org \nPARISHIONERS:\nRegister during the Parish Office hours\n(Monday – Friday 10am – 12pm\, 1pm – 4pm) \nor mail completed packets & payment to:\nOur Lady of Peace (c/o Walk for Life Registration)\n2800 Mission College Blvd.\,\nSanta Clara\, CA 95054 \nCCD & Youth\, CCD Families:\nRegister during the CCD Office Hours\n(Tuesday & Thursday: 6:30pm – 8:15pm\, Wednesday: 4pm -5:30pm\, Saturdays: 9am – 10:45am\, Closed Monday\, Friday\, and Sunday)
URL:https://www.olop-shrine.org/event/walk-for-life-2024/
CATEGORIES:Annual Events
END:VEVENT
END:VCALENDAR