BEGIN:VCALENDAR
VERSION:2.0
PRODID:-//Our Lady of Peace Shrine and Church - ECPv5.13.0//NONSGML v1.0//EN
CALSCALE:GREGORIAN
METHOD:PUBLISH
X-WR-CALNAME:Our Lady of Peace Shrine and Church
X-ORIGINAL-URL:https://www.olop-shrine.org
X-WR-CALDESC:Events for Our Lady of Peace Shrine and Church
BEGIN:VTIMEZONE
TZID:America/Los_Angeles
BEGIN:DAYLIGHT
TZOFFSETFROM:-0800
TZOFFSETTO:-0700
TZNAME:PDT
DTSTART:20260308T100000
END:DAYLIGHT
BEGIN:STANDARD
TZOFFSETFROM:-0700
TZOFFSETTO:-0800
TZNAME:PST
DTSTART:20261101T090000
END:STANDARD
END:VTIMEZONE
BEGIN:VEVENT
DTSTART;TZID=America/Los_Angeles:20260124T070000
DTEND;TZID=America/Los_Angeles:20260124T173000
DTSTAMP:20260421T090818
CREATED:20260106T193154Z
LAST-MODIFIED:20260109T192243Z
UID:14215-1769238000-1769275800@www.olop-shrine.org
SUMMARY:Walk for Life 2026
DESCRIPTION:22nd Walk for Life West Coast \nSaturday\, January 24\, 2026 \nPrefer to avoid the hassle of driving up to San Francisco? Consider joining us! We walk\, rain or shine\, so dress accordingly! Bring your own lunch\, comfortable walking shoes\, yellow “WFL” t-shirt\, and rosary! \n$35/adult for OLOP’s Bus Ride to & from SF \n\nPARISHIONERS: Register during Parish Office hours (listed on page 12)\nCCD & YOUTH\, CCD FAMILIES: Register during the CCD Office hours (listed on page 12)\nOR DOWNLOAD THE FORMS ONLINE (click button below for PDF)\n\n \nSCHEDULE \n\n6:45am to 7:00am – Park your car at OLOP\n7:00am – Start loading OLOP buses\n7:15am – Bus Departure to St. Lucy’s in Campbell\n8:00am – Diocesan Mass at St. Lucy’s with Bishop Cantú\nBy 9:30am – OLOP bus departs to Civic Center Plaza in San Francisco\n11:00am – Info Faire (time to eat your bagged lunch)\n12:30pm – Rally for Life Speakers\n1:30pm – Peaceful intercession in the 2 mile route towards Justin Herman Plaza/Ferry Building\, along Market Street.\n2:30pm – Proceed to Bus Pick Up Location\n3:30pm – BUS DEPARTURE from San Francisco to OLOP\n5:30pm – Latest estimated OLOP arrival\n\nNotes for those traveling on the OLOP buses: \n\nBring your own lunch.\nArrive at the OLOP parking lot by 7am. Bus loading will occur at 7am. Bus departs at 7:15am to St. Lucy’s.\nAllow families to board the bus first\, so families have an opportunity to sit together.\nGo straight to the bus as soon as the walk ends & return on the same bus you were on in the morning.\nAny and all travelers under 18 years old must travel with a chaperone.\n\n\nWALK FOR LIFE SCHEDULE OF EVENTS \nSilent No More Awareness Campaign\n10:45AM to 12:15PM – Civic Center Plaza\, San Francisco \nInfo Faire\n11:00AM to 12:30PM – Civic Center Plaza\, San Francisco \nWalk for Life Main Event\n12:30PM to 1:30PM – Civic Center Plaza\, San Francisco\nRally: 12:30 to 1:30PM\nWalk: 1:30PM \n\nWalk for Life Speakers \nJason Jones – Jason Jones is an award-winning film producer\, author\, humanitarian\, and the President of the Human-Rights Education and Relief Organization (H.E.R.O.)\, which leads the Vulnerable People Project and Movie to Movement. Dedicated to defending human dignity\, his mission is to stand between the violent and the vulnerable. \nGlendie Loranger – As the Executive Director of Life Services\, a pregnancy medical center\, in Spokane Washington\, Glendie has witnessed God transform many lives for His purposes. Her own redemption story from abortion and abuse has fed her dream to see people set free from emotional & spiritual bondage and live passionate lives for Jesus. \nElizabeth Barnett – Elizabeth Barrett was a pro-choice agnostic who turned into a pro-life Christian through the miracles she experienced in her Abortion Pill Reversal (APR) journey. \nRev. Clenard Childress – The Rev. Clenard Howard Childress\, Jr.\, has spoken at almost every Walk West for Life Coast since its founding. The Reverend Childress is a tireless advocate for the Right to Life for all American\, with a special emphasis on eliminating the scourge of abortion from the African-American community. \nCheck out more information on the West Coast Walk for Life at www.walkforlifewc.com
URL:https://www.olop-shrine.org/event/walk-for-life-2026/
CATEGORIES:Annual Events
END:VEVENT
END:VCALENDAR