BEGIN:VCALENDAR
VERSION:2.0
PRODID:-//Our Lady of Peace Shrine and Church - ECPv5.13.0//NONSGML v1.0//EN
CALSCALE:GREGORIAN
METHOD:PUBLISH
X-WR-CALNAME:Our Lady of Peace Shrine and Church
X-ORIGINAL-URL:https://www.olop-shrine.org
X-WR-CALDESC:Events for Our Lady of Peace Shrine and Church
BEGIN:VTIMEZONE
TZID:America/Los_Angeles
BEGIN:DAYLIGHT
TZOFFSETFROM:-0800
TZOFFSETTO:-0700
TZNAME:PDT
DTSTART:20240310T100000
END:DAYLIGHT
BEGIN:STANDARD
TZOFFSETFROM:-0700
TZOFFSETTO:-0800
TZNAME:PST
DTSTART:20241103T090000
END:STANDARD
END:VTIMEZONE
BEGIN:VEVENT
DTSTART;VALUE=DATE:20241111
DTEND;VALUE=DATE:20241112
DTSTAMP:20260422T073520
CREATED:20241107T190326Z
LAST-MODIFIED:20241107T190327Z
UID:13725-1731283200-1731369599@www.olop-shrine.org
SUMMARY:Closed for Veterans Day
DESCRIPTION:Parish Office and Gift Shop Closed on Monday\, November 11th\, 2024. \nMass & Confession schedule will remain the same.
URL:https://www.olop-shrine.org/event/closed-for-veterans-day/
END:VEVENT
END:VCALENDAR