BEGIN:VCALENDAR
VERSION:2.0
PRODID:-//Our Lady of Peace Shrine and Church - ECPv5.13.0//NONSGML v1.0//EN
CALSCALE:GREGORIAN
METHOD:PUBLISH
X-WR-CALNAME:Our Lady of Peace Shrine and Church
X-ORIGINAL-URL:https://www.olop-shrine.org
X-WR-CALDESC:Events for Our Lady of Peace Shrine and Church
BEGIN:VTIMEZONE
TZID:America/Los_Angeles
BEGIN:DAYLIGHT
TZOFFSETFROM:-0800
TZOFFSETTO:-0700
TZNAME:PDT
DTSTART:20240310T100000
END:DAYLIGHT
BEGIN:STANDARD
TZOFFSETFROM:-0700
TZOFFSETTO:-0800
TZNAME:PST
DTSTART:20241103T090000
END:STANDARD
END:VTIMEZONE
BEGIN:VEVENT
DTSTART;TZID=America/Los_Angeles:20241203T183000
DTEND;TZID=America/Los_Angeles:20241212T210000
DTSTAMP:20260422T060452
CREATED:20241116T035750Z
LAST-MODIFIED:20241116T040527Z
UID:13744-1733250600-1734037200@www.olop-shrine.org
SUMMARY:Novena de Nuestra Señora de Guadalupe
DESCRIPTION:Novena de Nuestra Señora de Guadalupe\n3 de diciembre – 6:30pm Rosario\, 7:00pm Misa (Español) \n4 de diciembre – 6:30pm Rosario\, 7:00pm Misa (Español) \n5 de diciembre – 6:30pm Rosario\, 7:00pm Misa (Español) \n6 de diciembre – 6:30pm Rosario\, 7:00pm Misa (Español) \n7 de diciembre – 6:30pm Rosary\, 7:00pm Mass (English) \n8 de diciembre – 6:00pm Misa (Español)\, 7:00pm Rosario \n9 de diciembre – 6:30pm Rosario\, 7:00pm Misa (Español) \n10 de diciembre – 6:30pm Rosario\, 7:00pm Misa (Español) \n11 de diciembre – 6:30pm Rosario\, 7:00pm Misa (Español) \n12 de diciembre\n5:00am Mañanitas\n6:00am Misa (Español)\, y desayuno\n6:30pm Rosario\n7:00pm Misa/Mass (Bilingüe/Bilingual)\, followed by Procession and Dinner
URL:https://www.olop-shrine.org/event/2024-novena-de-guadalupe/
LOCATION:Our Lady of Peace Church\, 2800 Mission College Boulevard\, Santa Clara\, CA\, 95054\, United States
CATEGORIES:Mass,Novena
END:VEVENT
BEGIN:VEVENT
DTSTART;TZID=America/Los_Angeles:20241207T160000
DTEND;TZID=America/Los_Angeles:20241229T200000
DTSTAMP:20260422T060452
CREATED:20241116T061038Z
LAST-MODIFIED:20241116T061038Z
UID:13759-1733587200-1735502400@www.olop-shrine.org
SUMMARY:Nativity Diorama
DESCRIPTION:Nativity Diorama Hours:\nDecember 7-29\, 2024 \nMondays & Wednesdays closed \nTuesdays\, Thursdays\, Fridays 5pm to 7pm \nSaturdays 4pm to 8:30pm | Sunday 9am to 8pm \nDecember 14th & 21st – 9:30am to 8:30pm \n\nLocation: Family Learning Center\, Room 1101 \nFollowing 800 years of the Creche tradition\, this free display follows the story of Jesus’ Nativity including: the Annunciation\, the Visitation\, the birth of Jesus\, the adoration of the Magi\, and much more! This one-of-a-kind diorama presents the extraordinary story of Jesus amid the everyday – with scenes of Israelite village life side-by-side with the supernatural. Take some time this Advent & Christmas season to prayerfully enjoy this display!
URL:https://www.olop-shrine.org/event/nativity-diorama-2024/
LOCATION:Our Lady of Peace Church\, 2800 Mission College Boulevard\, Santa Clara\, CA\, 95054\, United States
CATEGORIES:Annual Events
END:VEVENT
BEGIN:VEVENT
DTSTART;TZID=America/Los_Angeles:20241207T180000
DTEND;TZID=America/Los_Angeles:20241207T190000
DTSTAMP:20260422T060452
CREATED:20241116T055838Z
LAST-MODIFIED:20241116T055902Z
UID:13753-1733594400-1733598000@www.olop-shrine.org
SUMMARY:2nd Sunday of Advent Spiritual Talk
DESCRIPTION:2024 Advent Spiritual Talks\nDuring the season of Advent\, there will be a series of spiritual talks after the Sunday Vigil 5pm Mass in the church. Join us for these meditations leading up to the celebration of the Nativity of the Lord! \nSaturday\, November 30th – First Sunday of Advent Spiritual Talk \nSaturday\, December 7th – Second Sunday of Advent Spiritual Talk \nSaturday\, December 14th – Third Sunday of Advent Spiritual Talk \nSaturday\, December 21st – Fourth Sunday of Advent Spiritual Talk
URL:https://www.olop-shrine.org/event/2024-dec-7-advent-spiritual-talk/
LOCATION:Our Lady of Peace Church\, 2800 Mission College Boulevard\, Santa Clara\, CA\, 95054\, United States
END:VEVENT
END:VCALENDAR