BEGIN:VCALENDAR
VERSION:2.0
PRODID:-//Our Lady of Peace Shrine and Church - ECPv5.13.0//NONSGML v1.0//EN
CALSCALE:GREGORIAN
METHOD:PUBLISH
X-WR-CALNAME:Our Lady of Peace Shrine and Church
X-ORIGINAL-URL:https://www.olop-shrine.org
X-WR-CALDESC:Events for Our Lady of Peace Shrine and Church
BEGIN:VTIMEZONE
TZID:America/Los_Angeles
BEGIN:DAYLIGHT
TZOFFSETFROM:-0800
TZOFFSETTO:-0700
TZNAME:PDT
DTSTART:20240310T100000
END:DAYLIGHT
BEGIN:STANDARD
TZOFFSETFROM:-0700
TZOFFSETTO:-0800
TZNAME:PST
DTSTART:20241103T090000
END:STANDARD
END:VTIMEZONE
BEGIN:VEVENT
DTSTART;TZID=America/Los_Angeles:20241207T160000
DTEND;TZID=America/Los_Angeles:20241229T200000
DTSTAMP:20260422T060441
CREATED:20241116T061038Z
LAST-MODIFIED:20241116T061038Z
UID:13759-1733587200-1735502400@www.olop-shrine.org
SUMMARY:Nativity Diorama
DESCRIPTION:Nativity Diorama Hours:\nDecember 7-29\, 2024 \nMondays & Wednesdays closed \nTuesdays\, Thursdays\, Fridays 5pm to 7pm \nSaturdays 4pm to 8:30pm | Sunday 9am to 8pm \nDecember 14th & 21st – 9:30am to 8:30pm \n\nLocation: Family Learning Center\, Room 1101 \nFollowing 800 years of the Creche tradition\, this free display follows the story of Jesus’ Nativity including: the Annunciation\, the Visitation\, the birth of Jesus\, the adoration of the Magi\, and much more! This one-of-a-kind diorama presents the extraordinary story of Jesus amid the everyday – with scenes of Israelite village life side-by-side with the supernatural. Take some time this Advent & Christmas season to prayerfully enjoy this display!
URL:https://www.olop-shrine.org/event/nativity-diorama-2024/
LOCATION:Our Lady of Peace Church\, 2800 Mission College Boulevard\, Santa Clara\, CA\, 95054\, United States
CATEGORIES:Annual Events
END:VEVENT
BEGIN:VEVENT
DTSTART;TZID=America/Los_Angeles:20241213T080000
DTEND;TZID=America/Los_Angeles:20241213T170000
DTSTAMP:20260422T060441
CREATED:20241209T235726Z
LAST-MODIFIED:20241209T235727Z
UID:13778-1734076800-1734109200@www.olop-shrine.org
SUMMARY:Giving Tree
DESCRIPTION:HOW TO CONTRIBUTE: \nPlease take a tag from the tree in the side hall\, attach a gift card\, and return the completed tags to the parish office. \n\nGift cards: Target\, Walmart\, or VISA debit \nAmount: $60-$75 per tag \n(multiple $20-$25 gift cards combined for a single tag is okay) \n\nDUE DATE: DECEMBER 13th \n\nYour generosity will support members of our parish family through this Christmas season!
URL:https://www.olop-shrine.org/event/2024-giving-tree/
LOCATION:CA
END:VEVENT
END:VCALENDAR