BEGIN:VCALENDAR
VERSION:2.0
PRODID:-//Our Lady of Peace Shrine and Church - ECPv5.13.0//NONSGML v1.0//EN
CALSCALE:GREGORIAN
METHOD:PUBLISH
X-WR-CALNAME:Our Lady of Peace Shrine and Church
X-ORIGINAL-URL:https://www.olop-shrine.org
X-WR-CALDESC:Events for Our Lady of Peace Shrine and Church
BEGIN:VTIMEZONE
TZID:America/Los_Angeles
BEGIN:DAYLIGHT
TZOFFSETFROM:-0800
TZOFFSETTO:-0700
TZNAME:PDT
DTSTART:20250309T100000
END:DAYLIGHT
BEGIN:STANDARD
TZOFFSETFROM:-0700
TZOFFSETTO:-0800
TZNAME:PST
DTSTART:20251102T090000
END:STANDARD
END:VTIMEZONE
BEGIN:VEVENT
DTSTART;TZID=America/Los_Angeles:20250319T163000
DTEND;TZID=America/Los_Angeles:20250319T190000
DTSTAMP:20260422T012050
CREATED:20250319T233544Z
LAST-MODIFIED:20250319T233545Z
UID:13861-1742401800-1742410800@www.olop-shrine.org
SUMMARY:Solemnity of St. Joseph
DESCRIPTION:Solemnity of St. Joseph\n37th Anniversary of the Servants of the Lord and the Virgin of Matara \nMarch 19\, 2025 \n4:30pm Vespers\, 5:15pm Mass \nReception to follow in the Family Learning Center
URL:https://www.olop-shrine.org/event/solemnity-of-st-joseph/
END:VEVENT
END:VCALENDAR