BEGIN:VCALENDAR
VERSION:2.0
PRODID:-//Our Lady of Peace Shrine and Church - ECPv5.13.0//NONSGML v1.0//EN
CALSCALE:GREGORIAN
METHOD:PUBLISH
X-WR-CALNAME:Our Lady of Peace Shrine and Church
X-ORIGINAL-URL:https://www.olop-shrine.org
X-WR-CALDESC:Events for Our Lady of Peace Shrine and Church
BEGIN:VTIMEZONE
TZID:America/Los_Angeles
BEGIN:DAYLIGHT
TZOFFSETFROM:-0800
TZOFFSETTO:-0700
TZNAME:PDT
DTSTART:20250309T100000
END:DAYLIGHT
BEGIN:STANDARD
TZOFFSETFROM:-0700
TZOFFSETTO:-0800
TZNAME:PST
DTSTART:20251102T090000
END:STANDARD
END:VTIMEZONE
BEGIN:VEVENT
DTSTART;TZID=America/Los_Angeles:20250521T090000
DTEND;TZID=America/Los_Angeles:20250521T170000
DTSTAMP:20260421T215521
CREATED:20250519T201259Z
LAST-MODIFIED:20250519T201300Z
UID:13932-1747818000-1747846800@www.olop-shrine.org
SUMMARY:Church Maintenance
DESCRIPTION:The church will be closed on Wednesday\, May 21st* from 9am to 12pm and 1pm to 5pm for maintenance. Adoration will be moved to the side hall. The 12pm Mass will be in the hall as usual. \n*The May 18th bulletin announced the maintenance day as May 19th. Due to bulletin publishing deadlines\, the updated date could not be printed.
URL:https://www.olop-shrine.org/event/05-21-2025-maintenance/
END:VEVENT
END:VCALENDAR