BEGIN:VCALENDAR
VERSION:2.0
PRODID:-//Our Lady of Peace Shrine and Church - ECPv5.13.0//NONSGML v1.0//EN
CALSCALE:GREGORIAN
METHOD:PUBLISH
X-WR-CALNAME:Our Lady of Peace Shrine and Church
X-ORIGINAL-URL:https://www.olop-shrine.org
X-WR-CALDESC:Events for Our Lady of Peace Shrine and Church
BEGIN:VTIMEZONE
TZID:America/Los_Angeles
BEGIN:DAYLIGHT
TZOFFSETFROM:-0800
TZOFFSETTO:-0700
TZNAME:PDT
DTSTART:20250309T100000
END:DAYLIGHT
BEGIN:STANDARD
TZOFFSETFROM:-0700
TZOFFSETTO:-0800
TZNAME:PST
DTSTART:20251102T090000
END:STANDARD
END:VTIMEZONE
BEGIN:VEVENT
DTSTART;TZID=America/Los_Angeles:20250719T080000
DTEND;TZID=America/Los_Angeles:20250719T130000
DTSTAMP:20260421T184552
CREATED:20250714T235302Z
LAST-MODIFIED:20250714T235302Z
UID:13979-1752912000-1752930000@www.olop-shrine.org
SUMMARY:Men's Conference
DESCRIPTION:Saturday\, July 14\, 2025\n8:00am to 1:00pm \n\nConference begins with the Holy Mass at 8am and includes conferences\, rosary and brunch.\nTalks will be live-translated and broadcast through the AudioFetch app. \n\nPlease bring your own headphones!
URL:https://www.olop-shrine.org/event/mens-conference/
CATEGORIES:Conferences
END:VEVENT
END:VCALENDAR