BEGIN:VCALENDAR
VERSION:2.0
PRODID:-//Our Lady of Peace Shrine and Church - ECPv5.13.0//NONSGML v1.0//EN
CALSCALE:GREGORIAN
METHOD:PUBLISH
X-WR-CALNAME:Our Lady of Peace Shrine and Church
X-ORIGINAL-URL:https://www.olop-shrine.org
X-WR-CALDESC:Events for Our Lady of Peace Shrine and Church
BEGIN:VTIMEZONE
TZID:America/Los_Angeles
BEGIN:DAYLIGHT
TZOFFSETFROM:-0800
TZOFFSETTO:-0700
TZNAME:PDT
DTSTART:20250309T100000
END:DAYLIGHT
BEGIN:STANDARD
TZOFFSETFROM:-0700
TZOFFSETTO:-0800
TZNAME:PST
DTSTART:20251102T090000
END:STANDARD
END:VTIMEZONE
BEGIN:VEVENT
DTSTART;TZID=America/Los_Angeles:20251011T123000
DTEND;TZID=America/Los_Angeles:20251013T190000
DTSTAMP:20260421T133908
CREATED:20251001T184559Z
LAST-MODIFIED:20251002T174236Z
UID:14056-1760185800-1760382000@www.olop-shrine.org
SUMMARY:Gift Shop Anniversary Sale
DESCRIPTION:Gift Shop Anniversary Sale Hours:\n\nSaturday\, October 11th: open 12:30pm to 6:30pm\nSunday\, October 12th: open 9am to 6pm\nMonday\, October 13th: open 12:30pm to 7pm
URL:https://www.olop-shrine.org/event/2025-gift-shop-anniversary-sale/
END:VEVENT
END:VCALENDAR