BEGIN:VCALENDAR
VERSION:2.0
PRODID:-//Our Lady of Peace Shrine and Church - ECPv5.13.0//NONSGML v1.0//EN
CALSCALE:GREGORIAN
METHOD:PUBLISH
X-WR-CALNAME:Our Lady of Peace Shrine and Church
X-ORIGINAL-URL:https://www.olop-shrine.org
X-WR-CALDESC:Events for Our Lady of Peace Shrine and Church
BEGIN:VTIMEZONE
TZID:America/Los_Angeles
BEGIN:DAYLIGHT
TZOFFSETFROM:-0800
TZOFFSETTO:-0700
TZNAME:PDT
DTSTART:20250309T100000
END:DAYLIGHT
BEGIN:STANDARD
TZOFFSETFROM:-0700
TZOFFSETTO:-0800
TZNAME:PST
DTSTART:20251102T090000
END:STANDARD
END:VTIMEZONE
BEGIN:VEVENT
DTSTART;TZID=America/Los_Angeles:20251127T080000
DTEND;TZID=America/Los_Angeles:20251130T170000
DTSTAMP:20260421T103027
CREATED:20251120T205741Z
LAST-MODIFIED:20251120T205741Z
UID:14129-1764230400-1764522000@www.olop-shrine.org
SUMMARY:Thanksgiving Holiday Closure
DESCRIPTION:Due to the Thanksgiving Day holiday\, the parish office will be closed on Thursday\, November 27th & Friday\, November 28th.
URL:https://www.olop-shrine.org/event/thanksgiving-holiday-2025/
END:VEVENT
BEGIN:VEVENT
DTSTART;TZID=America/Los_Angeles:20251129T180000
DTEND;TZID=America/Los_Angeles:20251130T190000
DTSTAMP:20260421T103027
CREATED:20251120T210533Z
LAST-MODIFIED:20251120T210533Z
UID:14131-1764439200-1764529200@www.olop-shrine.org
SUMMARY:Spiritual Talk for 1st Sunday of Advent
DESCRIPTION:2025 Advent Spiritual Talks\nDuring the season of Advent\, there will be a series of spiritual talks after the Sunday Vigil 5pm Mass in the church. Join us for these meditations leading up to the celebration of the Nativity of the Lord! \nSaturday\, November 29th – First Sunday of Advent Spiritual Talk \nSaturday\, December 6th – Second Sunday of Advent Spiritual Talk \nSaturday\, December 13th – Third Sunday of Advent Spiritual Talk \nSaturday\, December 20th – Fourth Sunday of Advent Spiritual Talk
URL:https://www.olop-shrine.org/event/1st-advent-talks-2025/
CATEGORIES:Annual Events
END:VEVENT
END:VCALENDAR