BEGIN:VCALENDAR
VERSION:2.0
PRODID:-//Our Lady of Peace Shrine and Church - ECPv5.13.0//NONSGML v1.0//EN
CALSCALE:GREGORIAN
METHOD:PUBLISH
X-WR-CALNAME:Our Lady of Peace Shrine and Church
X-ORIGINAL-URL:https://www.olop-shrine.org
X-WR-CALDESC:Events for Our Lady of Peace Shrine and Church
BEGIN:VTIMEZONE
TZID:America/Los_Angeles
BEGIN:DAYLIGHT
TZOFFSETFROM:-0800
TZOFFSETTO:-0700
TZNAME:PDT
DTSTART:20250309T100000
END:DAYLIGHT
BEGIN:STANDARD
TZOFFSETFROM:-0700
TZOFFSETTO:-0800
TZNAME:PST
DTSTART:20251102T090000
END:STANDARD
END:VTIMEZONE
BEGIN:VEVENT
DTSTART;TZID=America/Los_Angeles:20251203T080000
DTEND;TZID=America/Los_Angeles:20251212T170000
DTSTAMP:20260421T103048
CREATED:20251204T190013Z
LAST-MODIFIED:20251204T190014Z
UID:14167-1764748800-1765558800@www.olop-shrine.org
SUMMARY:Novena & Feast of Our Lady of Guadalupe
DESCRIPTION:
URL:https://www.olop-shrine.org/event/2025-guadalupe-novena-2/
CATEGORIES:Novena
END:VEVENT
BEGIN:VEVENT
DTSTART;TZID=America/Los_Angeles:20251206T160000
DTEND;TZID=America/Los_Angeles:20251228T200000
DTSTAMP:20260421T103048
CREATED:20251120T204136Z
LAST-MODIFIED:20251203T181818Z
UID:14109-1765036800-1766952000@www.olop-shrine.org
SUMMARY:Nativity Diorama
DESCRIPTION:The Nativity Diorama will be open from Saturday\, December 6th to Sunday\, December 28th. \nClosed Mondays & Wednesdays \nOpen Tuesdays\, Thursdays\, Fridays: 5pm-7pm \nOpen Sundays: 9am-8pm \nOpen Saturdays:  \n• Dec. 6 & 27: 4pm-8:30pm \n• Dec. 13 & 20: 9:30am–8:30pm \nFamily Learning Center 1101 \n\nFeaturing terracotta figurines hand crafted and imported from Murcia\, Spain\, this one-of-a-kind diorama presents the extraordinary story of Jesus amid the everyday – with scenes of Israelite village life side-by-side with the supernatural. Take some time this Advent & Christmas season to prayerfully enjoy this display! It is a great opportunity for everyone in the family.
URL:https://www.olop-shrine.org/event/nativity-diorama-2025/
CATEGORIES:Annual Events
END:VEVENT
BEGIN:VEVENT
DTSTART;TZID=America/Los_Angeles:20251206T170000
DTEND;TZID=America/Los_Angeles:20251206T180000
DTSTAMP:20260421T103048
CREATED:20251121T200046Z
LAST-MODIFIED:20251121T195422Z
UID:14137-1765040400-1765044000@www.olop-shrine.org
SUMMARY:Spiritual Talk for 2nd Sunday of Advent
DESCRIPTION:2025 Advent Spiritual Talks\nDuring the season of Advent\, there will be a series of spiritual talks after the Sunday Vigil 5pm Mass in the church. Join us for these meditations leading up to the celebration of the Nativity of the Lord! \nSaturday\, November 29th – First Sunday of Advent Spiritual Talk \nSaturday\, December 6th – Second Sunday of Advent Spiritual Talk \nSaturday\, December 13th – Third Sunday of Advent Spiritual Talk \nSaturday\, December 20th – Fourth Sunday of Advent Spiritual Talk
URL:https://www.olop-shrine.org/event/2nd-advent-talks-2025/
CATEGORIES:Annual Events
END:VEVENT
END:VCALENDAR