BEGIN:VCALENDAR
VERSION:2.0
PRODID:-//Our Lady of Peace Shrine and Church - ECPv5.13.0//NONSGML v1.0//EN
CALSCALE:GREGORIAN
METHOD:PUBLISH
X-WR-CALNAME:Our Lady of Peace Shrine and Church
X-ORIGINAL-URL:https://www.olop-shrine.org
X-WR-CALDESC:Events for Our Lady of Peace Shrine and Church
BEGIN:VTIMEZONE
TZID:America/Los_Angeles
BEGIN:DAYLIGHT
TZOFFSETFROM:-0800
TZOFFSETTO:-0700
TZNAME:PDT
DTSTART:20250309T100000
END:DAYLIGHT
BEGIN:STANDARD
TZOFFSETFROM:-0700
TZOFFSETTO:-0800
TZNAME:PST
DTSTART:20251102T090000
END:STANDARD
END:VTIMEZONE
BEGIN:VEVENT
DTSTART;TZID=America/Los_Angeles:20251206T160000
DTEND;TZID=America/Los_Angeles:20251228T200000
DTSTAMP:20260423T025725
CREATED:20251120T204136Z
LAST-MODIFIED:20251203T181818Z
UID:14109-1765036800-1766952000@www.olop-shrine.org
SUMMARY:Nativity Diorama
DESCRIPTION:The Nativity Diorama will be open from Saturday\, December 6th to Sunday\, December 28th. \nClosed Mondays & Wednesdays \nOpen Tuesdays\, Thursdays\, Fridays: 5pm-7pm \nOpen Sundays: 9am-8pm \nOpen Saturdays:  \n• Dec. 6 & 27: 4pm-8:30pm \n• Dec. 13 & 20: 9:30am–8:30pm \nFamily Learning Center 1101 \n\nFeaturing terracotta figurines hand crafted and imported from Murcia\, Spain\, this one-of-a-kind diorama presents the extraordinary story of Jesus amid the everyday – with scenes of Israelite village life side-by-side with the supernatural. Take some time this Advent & Christmas season to prayerfully enjoy this display! It is a great opportunity for everyone in the family.
URL:https://www.olop-shrine.org/event/nativity-diorama-2025/
CATEGORIES:Annual Events
END:VEVENT
BEGIN:VEVENT
DTSTART;TZID=America/Los_Angeles:20251215T183000
DTEND;TZID=America/Los_Angeles:20251223T193000
DTSTAMP:20260423T025725
CREATED:20251213T062116Z
LAST-MODIFIED:20251216T023104Z
UID:14172-1765823400-1766518200@www.olop-shrine.org
SUMMARY:Posadas
DESCRIPTION:Posadas Navidenas PDF
URL:https://www.olop-shrine.org/event/posadas-2025/
CATEGORIES:Annual Events
END:VEVENT
BEGIN:VEVENT
DTSTART;TZID=America/Los_Angeles:20251216T050000
DTEND;TZID=America/Los_Angeles:20251224T060000
DTSTAMP:20260423T025725
CREATED:20251113T071755Z
LAST-MODIFIED:20251210T200908Z
UID:14112-1765861200-1766556000@www.olop-shrine.org
SUMMARY:Simbang Gabi
DESCRIPTION:Tuesday\, Dec. 16th: Simbang Gabi Novena: Day 1 (5am Mass) – Fr. Noel Sanvicente\nWednesday\, Dec. 17th: Simbang Gabi Novena: Day 2 (5am Mass) – Fr. Tito Cartagenas\, Jr.\nThursday\, Dec. 18th: Simbang Gabi Novena: Day 3 (5am Mass) – Fr. Brian Dinkel\, IVE\nFriday\, Dec. 19th: Simbang Gabi Novena: Day 4 (5am Mass) – Fr. Jonathan Dumlao\, IVE\nSaturday\, Dec. 20th: Simbang Gabi Novena: Day 5 (5am Mass) – Fr. Art Yabes\nSunday\, Dec. 21st: Simbang Gabi Novena: Day 6 (5am Mass) – Most Rev. Andres C. Ligot\, JCD\, DD\nMonday\, Dec. 22nd: Simbang Gabi Novena: Day 7 (5am Mass) – Fr. Joseph Page\nTuesday\, Dec. 23rd: Simbang Gabi Novena: Day 8 (5am Mass) – Fr. Francis Kalaw\nWednesday\, Dec. 24th: Simbang Gabi Novena: Day 9 (5am Mass) – Msgr. Willie Manrique\n\nDonuts/soups\, salabat\, and coffee will be served after the Mass. Location will vary and will be announced after Mass. \nThe December 7th & 14th bulletins incorrectly listed specific locations for the breakfasts. Please disregard the breakfast information in those bulletins.
URL:https://www.olop-shrine.org/event/simbang-gabi-2025/
LOCATION:Our Lady of Peace Church\, 2800 Mission College Boulevard\, Santa Clara\, CA\, 95054\, United States
CATEGORIES:Mass,Novena
END:VEVENT
BEGIN:VEVENT
DTSTART;TZID=America/Los_Angeles:20251220T180000
DTEND;TZID=America/Los_Angeles:20251220T180000
DTSTAMP:20260423T025725
CREATED:20251121T040636Z
LAST-MODIFIED:20251121T040636Z
UID:14147-1766253600-1766253600@www.olop-shrine.org
SUMMARY:Spiritual Talk for 4th Sunday of Advent
DESCRIPTION:2025 Advent Spiritual Talks\nDuring the season of Advent\, there will be a series of spiritual talks after the Sunday Vigil 5pm Mass in the church. Join us for these meditations leading up to the celebration of the Nativity of the Lord! \nSaturday\, November 29th – First Sunday of Advent Spiritual Talk \nSaturday\, December 6th – Second Sunday of Advent Spiritual Talk \nSaturday\, December 13th – Third Sunday of Advent Spiritual Talk \nSaturday\, December 20th – Fourth Sunday of Advent Spiritual Talk
URL:https://www.olop-shrine.org/event/spiritual-talk-for-4th-sunday-of-advent/
CATEGORIES:Annual Events
END:VEVENT
END:VCALENDAR