BEGIN:VCALENDAR
VERSION:2.0
PRODID:-//Our Lady of Peace Shrine and Church - ECPv5.13.0//NONSGML v1.0//EN
CALSCALE:GREGORIAN
METHOD:PUBLISH
X-WR-CALNAME:Our Lady of Peace Shrine and Church
X-ORIGINAL-URL:https://www.olop-shrine.org
X-WR-CALDESC:Events for Our Lady of Peace Shrine and Church
BEGIN:VTIMEZONE
TZID:America/Los_Angeles
BEGIN:DAYLIGHT
TZOFFSETFROM:-0800
TZOFFSETTO:-0700
TZNAME:PDT
DTSTART:20260308T100000
END:DAYLIGHT
BEGIN:STANDARD
TZOFFSETFROM:-0700
TZOFFSETTO:-0800
TZNAME:PST
DTSTART:20261101T090000
END:STANDARD
END:VTIMEZONE
BEGIN:VEVENT
DTSTART;TZID=America/Los_Angeles:20260218T063000
DTEND;TZID=America/Los_Angeles:20260218T210000
DTSTAMP:20260421T073916
CREATED:20260119T203222Z
LAST-MODIFIED:20260218T202018Z
UID:14227-1771396200-1771448400@www.olop-shrine.org
SUMMARY:Ash Wednesday
DESCRIPTION:All baptized Catholics are required to observe abstinence from meat (age 14 onwards) on Ash Wednesday and all Fridays during Lent. Fasting (ages 18-59) is also required on Ash Wednesday\, unless grave health concerns prevent them. \nAshes given at each Mass & Service: \n\n6:30am & 8am – Mass with Ashes\n10am – Ash Service\nNoon – Mass with Ashes\n4pm – Ash Service for CCD families\n5:15pm – Mass with Ashes\n6:30pm – Misa en Español\n8pm – Mass with Ashes\n\nNote: no 7pm Perpetual Help Novena and Mass \nAshes given at each Mass & Service. \nConfessions available in the side hall during all Masses except 6:30am Mass.
URL:https://www.olop-shrine.org/event/ash-wednesday-2026/
CATEGORIES:Annual Events
END:VEVENT
END:VCALENDAR