BEGIN:VCALENDAR
VERSION:2.0
PRODID:-//Our Lady of Peace Shrine and Church - ECPv5.13.0//NONSGML v1.0//EN
CALSCALE:GREGORIAN
METHOD:PUBLISH
X-WR-CALNAME:Our Lady of Peace Shrine and Church
X-ORIGINAL-URL:https://www.olop-shrine.org
X-WR-CALDESC:Events for Our Lady of Peace Shrine and Church
BEGIN:VTIMEZONE
TZID:America/Los_Angeles
BEGIN:DAYLIGHT
TZOFFSETFROM:-0800
TZOFFSETTO:-0700
TZNAME:PDT
DTSTART:20260308T100000
END:DAYLIGHT
BEGIN:STANDARD
TZOFFSETFROM:-0700
TZOFFSETTO:-0800
TZNAME:PST
DTSTART:20261101T090000
END:STANDARD
END:VTIMEZONE
BEGIN:VEVENT
DTSTART;TZID=America/Los_Angeles:20260330T190000
DTEND;TZID=America/Los_Angeles:20260401T200000
DTSTAMP:20260421T055130
CREATED:20260320T220414Z
LAST-MODIFIED:20260320T220415Z
UID:14317-1774897200-1775073600@www.olop-shrine.org
SUMMARY:Holy Week Mission
DESCRIPTION:Fr. Noel Sanvicente will celebrate Mass and preach a Lenten mission in the church at 7pm each night in English. \nFr Brian Dinkel\, IVE will preach a Lenten reflection in Spanish each night at 7pm in the Family Learning Center.
URL:https://www.olop-shrine.org/event/holy-week-mission-2026/
END:VEVENT
END:VCALENDAR