BEGIN:VCALENDAR
VERSION:2.0
PRODID:-//Our Lady of Peace Shrine and Church - ECPv5.13.0//NONSGML v1.0//EN
CALSCALE:GREGORIAN
METHOD:PUBLISH
X-WR-CALNAME:Our Lady of Peace Shrine and Church
X-ORIGINAL-URL:https://www.olop-shrine.org
X-WR-CALDESC:Events for Our Lady of Peace Shrine and Church
BEGIN:VTIMEZONE
TZID:America/Los_Angeles
BEGIN:DAYLIGHT
TZOFFSETFROM:-0800
TZOFFSETTO:-0700
TZNAME:PDT
DTSTART:20260308T100000
END:DAYLIGHT
BEGIN:STANDARD
TZOFFSETFROM:-0700
TZOFFSETTO:-0800
TZNAME:PST
DTSTART:20261101T090000
END:STANDARD
END:VTIMEZONE
BEGIN:VEVENT
DTSTART;TZID=America/Los_Angeles:20260411T150000
DTEND;TZID=America/Los_Angeles:20260411T190000
DTSTAMP:20260421T073256
CREATED:20260317T015731Z
LAST-MODIFIED:20260317T015754Z
UID:14286-1775919600-1775934000@www.olop-shrine.org
SUMMARY:Easter Party
DESCRIPTION:Join the parish in celebrating the Easter season at our annual Easter Celebration from 3pm to 7pm in the Family Learning Center. \nCelebration for the whole family! \nGames | Music | Food | Activities for Children
URL:https://www.olop-shrine.org/event/easter-party-2026/
CATEGORIES:Celebrations
END:VEVENT
END:VCALENDAR